BEGIN:VCALENDAR
VERSION:2.0
PRODID:https://www.diw.de/de/diw_01.c.806339.de/veranstaltungen.html
METHOD:PUBLISH
CALSCALE:GREGORIAN
BEGIN:VEVENT
UID:diw_01.c.962807.en
LOCATION:Francine D. Blau Room,DIW Berlin,3.3.002b,Anton-Wilhelm-Amo-Strasse 58,10117 Berlin
SUMMARY:Selected Topics of the German Council of Economic Expert's Spring Report
DESCRIPTION:11:30 - 12:30 // Chapter 2 examines Germany's financial package, highlighting its potential to modernize public capital stock and stimulate economic recovery through expanded fiscal flexibility. The GCEE emphasizes that the package's effectiveness is contingent on its investment-oriented application and adherence to EU fiscal rules.  Chapter 3 addresses the significant burden of bureaucracy on German businesses. It details how extensive informational requirements and protracted approval processes hinder economic activity and lead to substantial costs.   Chapter 4 explores the structural change of the German economy, driven by shifts in international trade, decarbonization, digitalization, and demographic changes. It discusses the varying regional impacts of these shifts, particularly the challenges faced by industrial areas and the growing importance of knowledge-intensive service sectors.
DTSTART;VALUE=DATE:20250702
DTEND;VALUE=DATE:20250702
DTSTAMP:20250624T220000Z
URL:https://www.diw.de/en/diw_01.c.962807.en/events/selected_topics_of_the_german_council_of_economic_expert_s_spring_report.html
ORGANIZER;CN=Themistoklis Kampouris:mailto:tkampouris@diw.de
END:VEVENT
END:VCALENDAR