BEGIN:VCALENDAR
VERSION:2.0
PRODID:https://www.diw.de/de/diw_01.c.806339.de/veranstaltungen.html
METHOD:PUBLISH
CALSCALE:GREGORIAN
BEGIN:VEVENT
UID:diw_01.c.970307.en
LOCATION:Elinor Ostrom Hall,DIW Berlin,Anton-Wilhelm-Amo-Strasse 58,10117 Berlin
SUMMARY:Berlin Macro Seminar
DESCRIPTION:16:00-18:00 c.t. // 
DTSTART:20260210T150000Z
DTEND:20260210T170000Z
DTSTAMP:20250610T220000Z
URL:https://www.diw.de/en/diw_01.c.970307.en/events/berlin_macro_seminar.html
ORGANIZER;CN=Alexander Kriwoluzky:mailto:akriwoluzky@diw.de
END:VEVENT
END:VCALENDAR