BEGIN:VCALENDAR
VERSION:2.0
PRODID:https://www.diw.de/de/diw_01.c.806339.de/veranstaltungen.html
METHOD:PUBLISH
CALSCALE:GREGORIAN
BEGIN:VEVENT
UID:diw_01.c.973401.en
LOCATION:Elinor Ostrom Hall,DIW Berlin,Anton-Wilhelm-Amo-Strasse 58,10117 Berlin
SUMMARY:The Downside of Fertility
DESCRIPTION:1:30 p.m. - 3:00 p.m. // The fertility decline is everywhere in the world today. Moreover, the decline goes decades back in the histories of rich countries. Birthrates have been below replacement in the U.S. and Europe since the mid-1970s, although further declines occurred after the Great Recession. The reasons for the declines from the 1970s to the early 2000s involve greater female autonomy and a mismatch between the desires of men and women. Men benefit more from maintaining traditions; women benefit more from eschewing them. When the probability is low that men will abandon traditions, some career women will not have children and others will delay, often too long. The fertility histories of the U.S. and those of many European and Asian countries speak to the impact of the mismatch on birth rates. The experience of middle income and even poorer nations may also be due to related factors. Various constraints that I group under “matching” problems have caused fertility to be lower than otherwise and imply that fertility has a “downside.”  
DTSTART:20251106T123000Z
DTEND:20251106T140000Z
DTSTAMP:20250908T220000Z
URL:https://www.diw.de/en/diw_01.c.973401.en/events/the_downside_of_fertility.html
ORGANIZER;CN=Christiane Zschech:mailto:events@diw.de
END:VEVENT
END:VCALENDAR