BEGIN:VCALENDAR
VERSION:2.0
PRODID:https://www.diw.de/de/diw_01.c.806339.de/veranstaltungen.html
METHOD:PUBLISH
CALSCALE:GREGORIAN
BEGIN:VEVENT
UID:diw_01.c.981250.en
LOCATION:Karl Popper Room,DIW Berlin,2.3.020,Anton-Wilhelm-Amo-Strasse 58,10117 Berlin
SUMMARY:Timing of School Entry and Personality Traits in Adulthood
DESCRIPTION:12:30-13:30 // This paper investigates the long-run consequences of a later school entry for personality traits. For identification, we exploit the statutory cutoff rules for school enrollment in Germany within a regression discontinuity design. We find that relatively older school starters have persistently lower levels of neuroticism in adulthood. This effect is entirely driven by women, which has important implications for gender gaps in the labor market, as women typically score significantly higher on neuroticism at all stages of life, which puts them at a disadvantage. Our results suggest that family decisions regarding compliance with enrollment cutoffs may have lasting implications for gender gaps in socio-emotional skills.
DTSTART:20251015T103000Z
DTEND:20251015T113000Z
DTSTAMP:20250930T220000Z
URL:https://www.diw.de/en/diw_01.c.981250.en/events/timing_of_school_entry_and_personality_traits_in_adulthood.html
ORGANIZER;CN=Thomas Rieger:mailto:trieger@diw.de
END:VEVENT
END:VCALENDAR