BEGIN:VCALENDAR
VERSION:2.0
PRODID:https://www.diw.de/de/diw_01.c.806339.de/veranstaltungen.html
METHOD:PUBLISH
CALSCALE:GREGORIAN
BEGIN:VEVENT
UID:diw_01.c.981286.en
LOCATION:Elinor Ostrom Hall,DIW Berlin,Anton-Wilhelm-Amo-Strasse 58,10117 Berlin
SUMMARY:World Economic Outlook Chapter on industrial policies
DESCRIPTION:09:00 - 10:30 // Presentation of the World Economic Outlook Chapter on industrial policies by Mehdi Maxime Benatiya Andaloussi on the 28th of October 2025 from 9-10.30 am.
DTSTART:20251028T080000Z
DTEND:20251028T093000Z
DTSTAMP:20251006T220000Z
URL:https://www.diw.de/en/diw_01.c.981286.en/events/world_economic_outlook_chapter_on_industrial_policies.html
ORGANIZER;CN=Romina Beyer:mailto:rbeyer@diw.de
END:VEVENT
END:VCALENDAR