BEGIN:VCALENDAR
VERSION:2.0
PRODID:https://www.diw.de/de/diw_01.c.806339.de/veranstaltungen.html
METHOD:PUBLISH
CALSCALE:GREGORIAN
BEGIN:VEVENT
UID:diw_01.c.982807.de
LOCATION:Karl-Popper-Raum,DIW Berlin,2.3.020,Anton-Wilhelm-Amo-Straße 58,10117 Berlin
SUMMARY:Bedingte unbefristete Aufenthaltsgenehmigung und Integration von Geflüchteten: Evidenz aus der deutschen Reform von 2016
DESCRIPTION:12:30-13:30 // Der englische Originaltitel des Seminars lautet: "Conditional Permanent Residency and Refugee Integration: Evidence from Germany's 2016 Reform". Die Präsentation findet auf Englisch statt.  Eine kurze Zusammenfassung zum Vortrag ist nur auf der englischen Veranstaltungsseite verfügbar!
DTSTART:20260107T113000Z
DTEND:20260107T123000Z
DTSTAMP:20251016T220000Z
URL:https://www.diw.de/de/diw_01.c.982807.de/veranstaltungen/bedingte_unbefristete_aufenthaltsgenehmigung_und_integration___von_gefluechteten__evidenz_aus_der_deutschen_reform_von_2016.html
ORGANIZER;CN=Alexander Grawe:mailto:agrawe@diw.de
END:VEVENT
END:VCALENDAR