BEGIN:VCALENDAR
VERSION:2.0
PRODID:https://www.diw.de/de/diw_01.c.806339.de/veranstaltungen.html
METHOD:PUBLISH
CALSCALE:GREGORIAN
BEGIN:VEVENT
UID:diw_01.c.985903.en
LOCATION:Elinor Ostrom Hall,DIW Berlin,Anton-Wilhelm-Amo-Strasse 58,10117 Berlin
SUMMARY:Ignite: How to Stay Focused and Resilient in Academic Life
DESCRIPTION:14:00 - 15:30 // Academic life is full of challenge and possibility. You get to ask big questions, dive deep into ideas, and push the boundaries of what’s known. But the same environment — with its high expectations and constant deadlines — can leave you stretched thin, stuck in your head, and unsure if you’re doing enough.  Neeltje van Horen knows that tension well. As a professor of economics and senior advisor at the Bank of England, she spent years in high-performance settings — while quietly battling stress and self-doubt. Eventually, she began exploring a different way of working: one grounded in neuroscience, psychology, and small mental shifts that helped her feel clearer, calmer, and more in control.  In this talk, based on her book Ignite, Neeltje shares practical, science-based tools to protect your focus, calm your mind, and stay steady under pressure. Blending research with personal experience, she offers a more sustainable path for researchers who want to excel — without burning out.
DTSTART:20251211T130000Z
DTEND:20251211T143000Z
DTSTAMP:20251106T230000Z
URL:https://www.diw.de/en/diw_01.c.985903.en/events/ignite__how_to_stay_focused_and_resilient_in_academic_life.html
ORGANIZER;CN=Ina Müller:mailto:imueller@diw.de
END:VEVENT
END:VCALENDAR