BEGIN:VCALENDAR
VERSION:2.0
PRODID:https://www.diw.de/de/diw_01.c.806339.de/veranstaltungen.html
METHOD:PUBLISH
CALSCALE:GREGORIAN
BEGIN:VEVENT
UID:diw_01.c.987869.de
LOCATION:Karl-Popper-Raum,DIW Berlin,2.3.020,Anton-Wilhelm-Amo-Straße 58,10117 Berlin
SUMMARY:Im Schatten der Brüder: Unbeabsichtigte Auswirkungen einer Einschulungsregelung auf Migrantinnen
DESCRIPTION:14:00-15:00 // Der englische Originaltitel des Seminars lautet: "In the Shadow of Brothers: Unintended Impacts of a School Entry Policy on Migrant Girls". Die Präsentation findet auf Englisch statt.  Eine kurze Zusammenfassung zum Vortrag ist nur auf der englischen Veranstaltungsseite verfügbar!
DTSTART:20251126T130000Z
DTEND:20251126T140000Z
DTSTAMP:20251116T230000Z
URL:https://www.diw.de/de/diw_01.c.987869.de/veranstaltungen/im_schatten_der_brueder__unbeabsichtigte_auswirkungen_einer_einschulungsregelung_auf_migrantinnen.html
ORGANIZER;CN=Arianna Antezza:mailto:aantezza@diw.de
END:VEVENT
END:VCALENDAR