BEGIN:VCALENDAR
VERSION:2.0
PRODID:https://www.diw.de/de/diw_01.c.806339.de/veranstaltungen.html
METHOD:PUBLISH
CALSCALE:GREGORIAN
BEGIN:VEVENT
UID:diw_01.c.989334.en
LOCATION:Anna J. Schwartz Room,5.2.010,Anton-Wilhelm-Amo-Strasse 58,10117 Berlin
SUMMARY:Diversity in Teams and Creative Output
DESCRIPTION:12:00-13:00 // Modern labor markets increasingly rely on teamwork for tasks that require creative thinking, yet little is known about how such creative output is produced. We exploit the randomized allocation of first-year undergraduate students to study groups in a large Economics module to examine how diversity in team members’ backgrounds affects the creativity of their collaborative work. Each group produces a short video on a major innovation and its economic implications. Grounded in psychological theories of creativity, we use human raters to assess the creative quality of these videos. Our results show that diversity in country background—a proxy for ethnic diversity—enhances creative performance. Academic performance remains unaffected, suggesting that the factors driving creative team performance differ from those underlying regular performance and that organizations can foster creative output without compromising other dimensions of effectiveness.  
DTSTART:20260225T113000Z
DTEND:20260225T120000Z
DTSTAMP:20251125T230000Z
URL:https://www.diw.de/en/diw_01.c.989334.en/events/diversity_in_teams_and_creative_output.html
ORGANIZER;CN=Arianna Antezza:mailto:aantezza@diw.de
END:VEVENT
END:VCALENDAR