BEGIN:VCALENDAR
VERSION:2.0
PRODID:https://www.diw.de/de/diw_01.c.806339.de/veranstaltungen.html
METHOD:PUBLISH
CALSCALE:GREGORIAN
BEGIN:VEVENT
UID:diw_01.c.994943.en
LOCATION:Elinor Ostrom Hall,DIW Berlin,Anton-Wilhelm-Amo-Strasse 58,10117 Berlin
SUMMARY:Nuclear Policies under Trump 2.0
DESCRIPTION:13.00 - 14.00 cet. //   This presentation will provide an overview of the current energy political landscape in the United States under the current Trump Administration with a focus on nuclear power projects. This will include an overview of recent policy changes and the implications for reactor restarts, SMR (small modular reactor) projects, and their useability for data centers.   
DTSTART:20260122T120000Z
DTEND:20260122T130000Z
DTSTAMP:20260114T230000Z
URL:https://www.diw.de/en/diw_01.c.994943.en/events/nuclear_policies_under_trump_2.0.html
END:VEVENT
END:VCALENDAR